BEGIN:VCALENDAR
VERSION:2.0
PRODID:-//147.100.242.15//NONSGML kigkonsult.se iCalcreator 2.41.92//
CALSCALE:GREGORIAN
UID:31303562-3839-4237-b539-346539363335
X-WR-TIMEZONE:Europe/Paris
BEGIN:VTIMEZONE
TZID:Europe/Paris
TZUNTIL:20260329T010000Z
BEGIN:STANDARD
TZNAME:CET
DTSTART:20231029T030000
TZOFFSETFROM:+0200
TZOFFSETTO:+0100
RDATE:20241027T030000
RDATE:20251026T030000
END:STANDARD
BEGIN:DAYLIGHT
TZNAME:CEST
DTSTART:20240331T020000
TZOFFSETFROM:+0100
TZOFFSETTO:+0200
RDATE:20250330T020000
END:DAYLIGHT
END:VTIMEZONE
BEGIN:VEVENT
UID:31656636-6135-4233-b334-643062376264
DTSTAMP:20260419T221617Z
DTSTART:20240512T060000Z
DTEND:20240515T160000Z
LOCATION:Caen\, France
SUMMARY:14th International Havemeyer Foundation Horse Genome Workshop
URL:https://horse-genome.workshop.inrae.fr
END:VEVENT
END:VCALENDAR
